BEGIN:VCALENDAR
VERSION:2.0
PRODID:-//Gremial Industria de Telecomunicaciones - ECPv6.3.5//NONSGML v1.0//EN
CALSCALE:GREGORIAN
METHOD:PUBLISH
X-ORIGINAL-URL:https://gremialtelecomunicaciones.com
X-WR-CALDESC:Eventos para Gremial Industria de Telecomunicaciones
REFRESH-INTERVAL;VALUE=DURATION:PT1H
X-Robots-Tag:noindex
X-PUBLISHED-TTL:PT1H
BEGIN:VTIMEZONE
TZID:America/Guatemala
BEGIN:STANDARD
TZOFFSETFROM:-0600
TZOFFSETTO:-0600
TZNAME:CST
DTSTART:20220101T000000
END:STANDARD
END:VTIMEZONE
BEGIN:VEVENT
DTSTART;VALUE=DATE:20220315
DTEND;VALUE=DATE:20220317
DTSTAMP:20260421T034001
CREATED:20220225T221544Z
LAST-MODIFIED:20220225T222303Z
UID:664-1647302400-1647475199@gremialtelecomunicaciones.com
SUMMARY:UFINET participará en el Capacity Latam 2022- MIAMI
DESCRIPTION:El próximo evento se llevará a cabo en Miami\, los días 15 y 16 de marzo del 2022. UFINET; como todos los años; participará en una de las reuniones más grandes dentro de la industria de infraestructura digital\, donde se realizan acuerdos en los mercados de fibra\, centros de datos\, nube\, contenido\, satélite y TIC más amplios. Junto con las reuniones\, la conferencia ofrece una visión estratégica de los desarrollos del mercado con ejecutivos de nivel C que lideran discusiones en vivo sobre desarrollos de digitalización regional\, proyectos de despliegue de fibra\, planes de expansión de centros de datos y bordes\, fusiones y adquisiciones\, nube\, contenido y demandas de conectividad más amplias. Acérquese a su “stand” o saque una cita al correo marketing@www.ufinet.com \n  \n  \n 
URL:https://gremialtelecomunicaciones.com/evento/ufinet-participara-en-el-capacity-latam-2022-miami/
ATTACH;FMTTYPE=image/jpeg:https://gremialtelecomunicaciones.com/wp-content/uploads/2022/02/274308607_345480140813506_8343757165260236611_n.jpg
END:VEVENT
END:VCALENDAR